BEGIN:VCALENDAR
VERSION:2.0
PRODID:-//Guildfield Baptist Church - ECPv6.15.20//NONSGML v1.0//EN
CALSCALE:GREGORIAN
METHOD:PUBLISH
X-ORIGINAL-URL:https://guildfieldbaptist.org
X-WR-CALDESC:Events for Guildfield Baptist Church
REFRESH-INTERVAL;VALUE=DURATION:PT1H
X-Robots-Tag:noindex
X-PUBLISHED-TTL:PT1H
BEGIN:VTIMEZONE
TZID:UTC
BEGIN:STANDARD
TZOFFSETFROM:+0000
TZOFFSETTO:+0000
TZNAME:UTC
DTSTART:20180101T000000
END:STANDARD
END:VTIMEZONE
BEGIN:VEVENT
DTSTART;TZID=UTC:20251219T160000
DTEND;TZID=UTC:20251219T200000
DTSTAMP:20260425T211059
CREATED:20251218T015614Z
LAST-MODIFIED:20251218T015614Z
UID:2764-1766160000-1766174400@guildfieldbaptist.org
SUMMARY:Senior Movie Night
DESCRIPTION:Seniors\, Let’s watch a movie\, eat and fellowship!  Come out on Friday\, December 19th at 4pm.  See you there!
URL:https://guildfieldbaptist.org/event/senior-movie-night/
LOCATION:Guildfield Baptist Church\, 1023 Otis St\, NE\, Washington\, 20017\, United States
CATEGORIES:Community
ATTACH;FMTTYPE=image/jpeg:https://guildfieldbaptist.org/wp-content/uploads/2025/12/senior-movie-night.jpg
END:VEVENT
BEGIN:VEVENT
DTSTART;TZID=UTC:20250830T110000
DTEND;TZID=UTC:20250830T160000
DTSTAMP:20260425T211059
CREATED:20250815T025155Z
LAST-MODIFIED:20250815T025155Z
UID:2691-1756551600-1756569600@guildfieldbaptist.org
SUMMARY:Church Cookout & Backpack Giveaway
DESCRIPTION:Food\, games\, fun\, music\, backpacks and so much more! \nSaturday\, August 30th starting @11am at David C Driskell Community Park (former Magruder Park)\, Hyattsville\, MD. \nSee you there!
URL:https://guildfieldbaptist.org/event/church-cookout-backpack-giveaway/
CATEGORIES:Community
ATTACH;FMTTYPE=image/png:https://guildfieldbaptist.org/wp-content/uploads/2025/08/cookout.png
END:VEVENT
BEGIN:VEVENT
DTSTART;TZID=UTC:20240921T110000
DTEND;TZID=UTC:20240921T180000
DTSTAMP:20260425T211059
CREATED:20240812T223835Z
LAST-MODIFIED:20240812T223835Z
UID:2515-1726916400-1726941600@guildfieldbaptist.org
SUMMARY:Back "IN" School BBQ
DESCRIPTION:Church BBQ & Back “TO” School combined!  What a day it will be with fried fish\, BBQ\, games for the kids\, karaoke\, games\, back packs\, shoes and supplies for the kids and much more! Invite your neighbors\, friends and family and bring the fun.
URL:https://guildfieldbaptist.org/event/back-in-school-bbq/
LOCATION:Guildfield Baptist Church\, 1023 Otis St\, NE\, Washington\, 20017\, United States
CATEGORIES:Community
ATTACH;FMTTYPE=image/png:https://guildfieldbaptist.org/wp-content/uploads/2024/08/back-in-school-bbq2.png
END:VEVENT
BEGIN:VEVENT
DTSTART;TZID=UTC:20240323T150000
DTEND;TZID=UTC:20240323T170000
DTSTAMP:20260425T211059
CREATED:20240317T171106Z
LAST-MODIFIED:20240317T171106Z
UID:2320-1711206000-1711213200@guildfieldbaptist.org
SUMMARY:Where You There? Stations of the Cross
DESCRIPTION:Let’s walk the Via Dolorosa together\, Saturday\, March 23rd from 3:00pm – 5:00pm at the Saint John Paul II National Shrine\, 3900 Harewood Road\, NE\, Washington\, DC 20017.  Although not required to attend\, for planning purposes\, please RSVP  @ www.WYTStations.eventbrite.com
URL:https://guildfieldbaptist.org/event/where-you-there-stations-of-the-cross/
CATEGORIES:Community
ATTACH;FMTTYPE=image/jpeg:https://guildfieldbaptist.org/wp-content/uploads/2024/03/where-you-there-3.23.2024.jpg
END:VEVENT
BEGIN:VEVENT
DTSTART;TZID=UTC:20231028T120000
DTEND;TZID=UTC:20231028T180000
DTSTAMP:20260425T211059
CREATED:20231001T162157Z
LAST-MODIFIED:20231001T162157Z
UID:2050-1698494400-1698516000@guildfieldbaptist.org
SUMMARY:GBC - Hallelujah Harvest
DESCRIPTION:Hallelujah to the Harvest of our LORD!  Come out and fellowship with us as we celebrate the Lord of the Harvest on Saturday\, October 28th \, 12:00pm – 6:00pm.  We will have fun for the entire family from the youngest to the oldest.  Lots of shopping\, fun for the kids and food.  RSVP for your table\, donation of $20.00.  Please contact Minister Kim with any questions
URL:https://guildfieldbaptist.org/event/gbc-hallelujah-harvest/
LOCATION:Guildfield Baptist Church\, 1023 Otis St\, NE\, Washington\, 20017\, United States
CATEGORIES:Community
ATTACH;FMTTYPE=image/jpeg:https://guildfieldbaptist.org/wp-content/uploads/2023/10/HH-.jpg
END:VEVENT
BEGIN:VEVENT
DTSTART;TZID=UTC:20230723T103000
DTEND;TZID=UTC:20230723T123000
DTSTAMP:20260425T211059
CREATED:20230707T231050Z
LAST-MODIFIED:20230709T163616Z
UID:1924-1690108200-1690115400@guildfieldbaptist.org
SUMMARY:GBC Super Sundae
DESCRIPTION:Pack a Pew for prizes and enjoy a Super Sundae @GBC starting at the 10:30 am service on Sunday\, July 23rd
URL:https://guildfieldbaptist.org/event/gbc-super-sundae/
LOCATION:Guildfield Baptist Church\, 1023 Otis St\, NE\, Washington\, 20017\, United States
CATEGORIES:Community,Outreach
ATTACH;FMTTYPE=image/jpeg:https://guildfieldbaptist.org/wp-content/uploads/2023/07/SS-flier.jpg
END:VEVENT
BEGIN:VEVENT
DTSTART;VALUE=DATE:20201203
DTEND;VALUE=DATE:20201206
DTSTAMP:20260425T211059
CREATED:20201125T212409Z
LAST-MODIFIED:20201125T212409Z
UID:1413-1606953600-1607212799@guildfieldbaptist.org
SUMMARY:Title
DESCRIPTION:Text
URL:https://guildfieldbaptist.org/event/title/
LOCATION:South Campus\, 1234 Apple Avenue\, New York City\, NY\, 111111\, United States
CATEGORIES:Community
ATTACH;FMTTYPE=image/jpeg:https://guildfieldbaptist.org/wp-content/uploads/2020/08/ben-white-mO9vKbG5csg-unsplash-scaled.jpg
ORGANIZER;CN="Avada Church":MAILTO:noreply@example.com
END:VEVENT
BEGIN:VEVENT
DTSTART;TZID=UTC:20200102T080000
DTEND;TZID=UTC:20200102T170000
DTSTAMP:20260425T211059
CREATED:20150916T164836Z
LAST-MODIFIED:20150916T164836Z
UID:433-1577952000-1577984400@guildfieldbaptist.org
SUMMARY:Family Growth
DESCRIPTION:Maecenas leo nisi\, efficitur at felis sit amet\, lacinia auctor quam. Aliquam euismod pretium mattis. Aenean sollicitudin orci non orci gravida ullamcorper. Duis utres odios pellentesque\, efficiturs odio vitae\, aliquams arcu. Sed pulvinar lacus at neque imperdiet lobortis. Phasellus eget lectus rutrum\, fringilla nibh ut\, convallis orci. Quisque magna risus\, lacinia a pharetra vel\, gravida ac mi. Aenean ac interdum nisi\, et vehicula nisl. Suspendisse potenti. Cras leo ex\, congue eget dignissim nec\, porta maximus erat. Etiam ornare arcu neque\, in viverra eros egestas eu. Mauris diam velit\, dictum et vehicula nec\, sagittis nec sapien. Donec tincidunt purus et justo porttitor\, non porttitor quam fermentum orci non aliquams arcu dolores ipsums. \nDonec maximus a ante sit amet nisl nisi at arcu. Donec lobortis libero ex\, a sollicitudin neque volutpat. Aenean pretium nisi id lectus cursus sagittis. Aliquam sit amet nisl pretium\, consectetur purus non\, porta libero. Integer dui dui\, porta non mollis sit amet\, pharetra nec risus. Donec fringilla ex non arcu auctor\, vel faucibus felis pharetra. Pellentesque condimentum suscipit mi. Sed pretium\, tellus et efficitur dapibus\, metus nunc gravida ante\, at interdum nisl nisi at arcu. Donec lobortis libero ex\, a sollicitudin neque dapibus vitae. Maecenas volutpat est sit amet leo pretium mollis eu a odio dolores ipsums ficilis etras.
URL:https://guildfieldbaptist.org/event/family-growth/
LOCATION:South Campus\, 1234 Apple Avenue\, New York City\, NY\, 111111\, United States
CATEGORIES:Community,Food,Music,Outreach
ATTACH;FMTTYPE=image/jpeg:https://guildfieldbaptist.org/wp-content/uploads/2015/09/event_6-compressor.jpg
ORGANIZER;CN="Avada Church":MAILTO:noreply@example.com
END:VEVENT
BEGIN:VEVENT
DTSTART;TZID=UTC:20191229T160000
DTEND;TZID=UTC:20191229T220000
DTSTAMP:20260425T211059
CREATED:20150916T184729Z
LAST-MODIFIED:20150916T184729Z
UID:438-1577635200-1577656800@guildfieldbaptist.org
SUMMARY:Faith Conference
DESCRIPTION:Maecenas leo nisi\, efficitur at felis sit amet\, lacinia auctor quam. Aliquam euismod pretium mattis. Aenean sollicitudin orci non orci gravida ullamcorper. Duis utres odios pellentesque\, efficiturs odio vitae\, aliquams arcu. Sed pulvinar lacus at neque imperdiet lobortis. Phasellus eget lectus rutrum\, fringilla nibh ut\, convallis orci. Quisque magna risus\, lacinia a pharetra vel\, gravida ac mi. Aenean ac interdum nisi\, et vehicula nisl. Suspendisse potenti. Cras leo ex\, congue eget dignissim nec\, porta maximus erat. Etiam ornare arcu neque\, in viverra eros egestas eu. Mauris diam velit\, dictum et vehicula nec\, sagittis nec sapien. Donec tincidunt purus et justo porttitor\, non porttitor quam fermentum orci non aliquams arcu dolores ipsums. \nDonec maximus a ante sit amet nisl nisi at arcu. Donec lobortis libero ex\, a sollicitudin neque volutpat. Aenean pretium nisi id lectus cursus sagittis. Aliquam sit amet nisl pretium\, consectetur purus non\, porta libero. Integer dui dui\, porta non mollis sit amet\, pharetra nec risus. Donec fringilla ex non arcu auctor\, vel faucibus felis pharetra. Pellentesque condimentum suscipit mi. Sed pretium\, tellus et efficitur dapibus\, metus nunc gravida ante\, at interdum nisl nisi at arcu. Donec lobortis libero ex\, a sollicitudin neque dapibus vitae. Maecenas volutpat est sit amet leo pretium mollis eu a odio dolores ipsums ficilis etras.
URL:https://guildfieldbaptist.org/event/faith-conference/
LOCATION:South Campus\, 1234 Apple Avenue\, New York City\, NY\, 111111\, United States
CATEGORIES:Community,Food,Music
ATTACH;FMTTYPE=image/jpeg:https://guildfieldbaptist.org/wp-content/uploads/2015/09/event_1.jpg
ORGANIZER;CN="Avada Church":MAILTO:noreply@example.com
END:VEVENT
BEGIN:VEVENT
DTSTART;TZID=UTC:20191228T120000
DTEND;TZID=UTC:20191228T190000
DTSTAMP:20260425T211059
CREATED:20150916T185421Z
LAST-MODIFIED:20150916T185421Z
UID:439-1577534400-1577559600@guildfieldbaptist.org
SUMMARY:Harvest Festival
DESCRIPTION:Maecenas leo nisi\, efficitur at felis sit amet\, lacinia auctor quam. Aliquam euismod pretium mattis. Aenean sollicitudin orci non orci gravida ullamcorper. Duis utres odios pellentesque\, efficiturs odio vitae\, aliquams arcu. Sed pulvinar lacus at neque imperdiet lobortis. Phasellus eget lectus rutrum\, fringilla nibh ut\, convallis orci. Quisque magna risus\, lacinia a pharetra vel\, gravida ac mi. Aenean ac interdum nisi\, et vehicula nisl. Suspendisse potenti. Cras leo ex\, congue eget dignissim nec\, porta maximus erat. Etiam ornare arcu neque\, in viverra eros egestas eu. Mauris diam velit\, dictum et vehicula nec\, sagittis nec sapien. Donec tincidunt purus et justo porttitor\, non porttitor quam fermentum orci non aliquams arcu dolores ipsums. \nDonec maximus a ante sit amet nisl nisi at arcu. Donec lobortis libero ex\, a sollicitudin neque volutpat. Aenean pretium nisi id lectus cursus sagittis. Aliquam sit amet nisl pretium\, consectetur purus non\, porta libero. Integer dui dui\, porta non mollis sit amet\, pharetra nec risus. Donec fringilla ex non arcu auctor\, vel faucibus felis pharetra. Pellentesque condimentum suscipit mi. Sed pretium\, tellus et efficitur dapibus\, metus nunc gravida ante\, at interdum nisl nisi at arcu. Donec lobortis libero ex\, a sollicitudin neque dapibus vitae. Maecenas volutpat est sit amet leo pretium mollis eu a odio dolores ipsums ficilis etras.
URL:https://guildfieldbaptist.org/event/harvest-festival/
LOCATION:South Campus\, 1234 Apple Avenue\, New York City\, NY\, 111111\, United States
CATEGORIES:Community,Food,Outreach
ATTACH;FMTTYPE=image/jpeg:https://guildfieldbaptist.org/wp-content/uploads/2015/09/event_3-compressor.jpg
ORGANIZER;CN="Avada Church":MAILTO:noreply@example.com
END:VEVENT
BEGIN:VEVENT
DTSTART;TZID=UTC:20191226T080000
DTEND;TZID=UTC:20191226T170000
DTSTAMP:20260425T211059
CREATED:20150916T163923Z
LAST-MODIFIED:20150916T163923Z
UID:432-1577347200-1577379600@guildfieldbaptist.org
SUMMARY:Concert Series
DESCRIPTION:Maecenas leo nisi\, efficitur at felis sit amet\, lacinia auctor quam. Aliquam euismod pretium mattis. Aenean sollicitudin orci non orci gravida ullamcorper. Duis utres odios pellentesque\, efficiturs odio vitae\, aliquams arcu. Sed pulvinar lacus at neque imperdiet lobortis. Phasellus eget lectus rutrum\, fringilla nibh ut\, convallis orci. Quisque magna risus\, lacinia a pharetra vel\, gravida ac mi. Aenean ac interdum nisi\, et vehicula nisl. Suspendisse potenti. Cras leo ex\, congue eget dignissim nec\, porta maximus erat. Etiam ornare arcu neque\, in viverra eros egestas eu. Mauris diam velit\, dictum et vehicula nec\, sagittis nec sapien. Donec tincidunt purus et justo porttitor\, non porttitor quam fermentum orci non aliquams arcu dolores ipsums. \nDonec maximus a ante sit amet nisl nisi at arcu. Donec lobortis libero ex\, a sollicitudin neque volutpat. Aenean pretium nisi id lectus cursus sagittis. Aliquam sit amet nisl pretium\, consectetur purus non\, porta libero. Integer dui dui\, porta non mollis sit amet\, pharetra nec risus. Donec fringilla ex non arcu auctor\, vel faucibus felis pharetra. Pellentesque condimentum suscipit mi. Sed pretium\, tellus et efficitur dapibus\, metus nunc gravida ante\, at interdum nisl nisi at arcu. Donec lobortis libero ex\, a sollicitudin neque dapibus vitae. Maecenas volutpat est sit amet leo pretium mollis eu a odio dolores ipsums ficilis etras.
URL:https://guildfieldbaptist.org/event/concert-series-2/
LOCATION:South Campus\, 1234 Apple Avenue\, New York City\, NY\, 111111\, United States
CATEGORIES:Community,Food,Music
ATTACH;FMTTYPE=image/jpeg:https://guildfieldbaptist.org/wp-content/uploads/2015/09/event_2-compressor.jpg
ORGANIZER;CN="Avada Church":MAILTO:noreply@example.com
END:VEVENT
BEGIN:VEVENT
DTSTART;TZID=UTC:20191014T080000
DTEND;TZID=UTC:20191014T170000
DTSTAMP:20260425T211059
CREATED:20150803T181442Z
LAST-MODIFIED:20150803T181442Z
UID:279-1571040000-1571072400@guildfieldbaptist.org
SUMMARY:Hot Air Balloon Rides
DESCRIPTION:Maecenas leo nisi\, efficitur at felis sit amet\, lacinia auctor quam. Aliquam euismod pretium mattis. Aenean sollicitudin orci non orci gravida ullamcorper. Duis utres odios pellentesque\, efficiturs odio vitae\, aliquams arcu. Sed pulvinar lacus at neque imperdiet lobortis. Phasellus eget lectus rutrum\, fringilla nibh ut\, convallis orci. Quisque magna risus\, lacinia a pharetra vel\, gravida ac mi. Aenean ac interdum nisi\, et vehicula nisl. Suspendisse potenti. Cras leo ex\, congue eget dignissim nec\, porta maximus erat. Etiam ornare arcu neque\, in viverra eros egestas eu. Mauris diam velit\, dictum et vehicula nec\, sagittis nec sapien. Donec tincidunt purus et justo porttitor\, non porttitor quam fermentum orci non aliquams arcu dolores ipsums. \nDonec maximus a ante sit amet nisl nisi at arcu. Donec lobortis libero ex\, a sollicitudin neque volutpat. Aenean pretium nisi id lectus cursus sagittis. Aliquam sit amet nisl pretium\, consectetur purus non\, porta libero. Integer dui dui\, porta non mollis sit amet\, pharetra nec risus. Donec fringilla ex non arcu auctor\, vel faucibus felis pharetra. Pellentesque condimentum suscipit mi. Sed pretium\, tellus et efficitur dapibus\, metus nunc gravida ante\, at interdum nisl nisi at arcu. Donec lobortis libero ex\, a sollicitudin neque dapibus vitae. Maecenas volutpat est sit amet leo pretium mollis eu a odio dolores ipsums ficilis etras.
URL:https://guildfieldbaptist.org/event/hot-air-balloon-rides/
LOCATION:South Campus\, 1234 Apple Avenue\, New York City\, NY\, 111111\, United States
CATEGORIES:Community
ATTACH;FMTTYPE=image/jpeg:https://guildfieldbaptist.org/wp-content/uploads/2015/09/event_7-compressor.jpg
ORGANIZER;CN="Avada Church":MAILTO:noreply@example.com
END:VEVENT
BEGIN:VEVENT
DTSTART;TZID=UTC:20190718T110000
DTEND;TZID=UTC:20190718T200000
DTSTAMP:20260425T211059
CREATED:20150916T191434Z
LAST-MODIFIED:20150916T191434Z
UID:440-1563447600-1563480000@guildfieldbaptist.org
SUMMARY:Bake Off For Charity
DESCRIPTION:Maecenas leo nisi\, efficitur at felis sit amet\, lacinia auctor quam. Aliquam euismod pretium mattis. Aenean sollicitudin orci non orci gravida ullamcorper. Duis utres odios pellentesque\, efficiturs odio vitae\, aliquams arcu. Sed pulvinar lacus at neque imperdiet lobortis. Phasellus eget lectus rutrum\, fringilla nibh ut\, convallis orci. Quisque magna risus\, lacinia a pharetra vel\, gravida ac mi. Aenean ac interdum nisi\, et vehicula nisl. Suspendisse potenti. Cras leo ex\, congue eget dignissim nec\, porta maximus erat. Etiam ornare arcu neque\, in viverra eros egestas eu. Mauris diam velit\, dictum et vehicula nec\, sagittis nec sapien. Donec tincidunt purus et justo porttitor\, non porttitor quam fermentum orci non aliquams arcu dolores ipsums. \nDonec maximus a ante sit amet nisl nisi at arcu. Donec lobortis libero ex\, a sollicitudin neque volutpat. Aenean pretium nisi id lectus cursus sagittis. Aliquam sit amet nisl pretium\, consectetur purus non\, porta libero. Integer dui dui\, porta non mollis sit amet\, pharetra nec risus. Donec fringilla ex non arcu auctor\, vel faucibus felis pharetra. Pellentesque condimentum suscipit mi. Sed pretium\, tellus et efficitur dapibus\, metus nunc gravida ante\, at interdum nisl nisi at arcu. Donec lobortis libero ex\, a sollicitudin neque dapibus vitae. Maecenas volutpat est sit amet leo pretium mollis eu a odio dolores ipsums ficilis etras.
URL:https://guildfieldbaptist.org/event/bake-off-for-charity/
LOCATION:South Campus\, 1234 Apple Avenue\, New York City\, NY\, 111111\, United States
CATEGORIES:Community,Food,Outreach
ATTACH;FMTTYPE=image/jpeg:https://guildfieldbaptist.org/wp-content/uploads/2015/09/event_10-compressor.jpg
ORGANIZER;CN="Avada Church":MAILTO:noreply@example.com
END:VEVENT
BEGIN:VEVENT
DTSTART;TZID=UTC:20190628T180000
DTEND;TZID=UTC:20190628T220000
DTSTAMP:20260425T211059
CREATED:20150916T193904Z
LAST-MODIFIED:20150916T193904Z
UID:445-1561744800-1561759200@guildfieldbaptist.org
SUMMARY:Holiday Decoration Class
DESCRIPTION:Maecenas leo nisi\, efficitur at felis sit amet\, lacinia auctor quam. Aliquam euismod pretium mattis. Aenean sollicitudin orci non orci gravida ullamcorper. Duis utres odios pellentesque\, efficiturs odio vitae\, aliquams arcu. Sed pulvinar lacus at neque imperdiet lobortis. Phasellus eget lectus rutrum\, fringilla nibh ut\, convallis orci. Quisque magna risus\, lacinia a pharetra vel\, gravida ac mi. Aenean ac interdum nisi\, et vehicula nisl. Suspendisse potenti. Cras leo ex\, congue eget dignissim nec\, porta maximus erat. Etiam ornare arcu neque\, in viverra eros egestas eu. Mauris diam velit\, dictum et vehicula nec\, sagittis nec sapien. Donec tincidunt purus et justo porttitor\, non porttitor quam fermentum orci non aliquams arcu dolores ipsums. \nDonec maximus a ante sit amet nisl nisi at arcu. Donec lobortis libero ex\, a sollicitudin neque volutpat. Aenean pretium nisi id lectus cursus sagittis. Aliquam sit amet nisl pretium\, consectetur purus non\, porta libero. Integer dui dui\, porta non mollis sit amet\, pharetra nec risus. Donec fringilla ex non arcu auctor\, vel faucibus felis pharetra. Pellentesque condimentum suscipit mi. Sed pretium\, tellus et efficitur dapibus\, metus nunc gravida ante\, at interdum nisl nisi at arcu. Donec lobortis libero ex\, a sollicitudin neque dapibus vitae. Maecenas volutpat est sit amet leo pretium mollis eu a odio dolores ipsums ficilis etras.
URL:https://guildfieldbaptist.org/event/holiday-decoration-class/
LOCATION:South Campus\, 1234 Apple Avenue\, New York City\, NY\, 111111\, United States
CATEGORIES:Community,Music
ATTACH;FMTTYPE=image/jpeg:https://guildfieldbaptist.org/wp-content/uploads/2015/09/event_14-compressor.jpg
ORGANIZER;CN="Avada Church":MAILTO:noreply@example.com
END:VEVENT
BEGIN:VEVENT
DTSTART;TZID=UTC:20190530T080000
DTEND;TZID=UTC:20190530T170000
DTSTAMP:20260425T211059
CREATED:20150916T193351Z
LAST-MODIFIED:20150916T193351Z
UID:443-1559203200-1559235600@guildfieldbaptist.org
SUMMARY:Family Photos
DESCRIPTION:Maecenas leo nisi\, efficitur at felis sit amet\, lacinia auctor quam. Aliquam euismod pretium mattis. Aenean sollicitudin orci non orci gravida ullamcorper. Duis utres odios pellentesque\, efficiturs odio vitae\, aliquams arcu. Sed pulvinar lacus at neque imperdiet lobortis. Phasellus eget lectus rutrum\, fringilla nibh ut\, convallis orci. Quisque magna risus\, lacinia a pharetra vel\, gravida ac mi. Aenean ac interdum nisi\, et vehicula nisl. Suspendisse potenti. Cras leo ex\, congue eget dignissim nec\, porta maximus erat. Etiam ornare arcu neque\, in viverra eros egestas eu. Mauris diam velit\, dictum et vehicula nec\, sagittis nec sapien. Donec tincidunt purus et justo porttitor\, non porttitor quam fermentum orci non aliquams arcu dolores ipsums. \nDonec maximus a ante sit amet nisl nisi at arcu. Donec lobortis libero ex\, a sollicitudin neque volutpat. Aenean pretium nisi id lectus cursus sagittis. Aliquam sit amet nisl pretium\, consectetur purus non\, porta libero. Integer dui dui\, porta non mollis sit amet\, pharetra nec risus. Donec fringilla ex non arcu auctor\, vel faucibus felis pharetra. Pellentesque condimentum suscipit mi. Sed pretium\, tellus et efficitur dapibus\, metus nunc gravida ante\, at interdum nisl nisi at arcu. Donec lobortis libero ex\, a sollicitudin neque dapibus vitae. Maecenas volutpat est sit amet leo pretium mollis eu a odio dolores ipsums ficilis etras.
URL:https://guildfieldbaptist.org/event/family-photo-sessions/
LOCATION:South Campus\, 1234 Apple Avenue\, New York City\, NY\, 111111\, United States
CATEGORIES:Community,Music,Outreach
ATTACH;FMTTYPE=image/jpeg:https://guildfieldbaptist.org/wp-content/uploads/2015/09/event_11-compressor.jpg
ORGANIZER;CN="Avada Church":MAILTO:noreply@example.com
END:VEVENT
BEGIN:VEVENT
DTSTART;TZID=UTC:20190509T080000
DTEND;TZID=UTC:20190509T170000
DTSTAMP:20260425T211059
CREATED:20150916T193439Z
LAST-MODIFIED:20150916T193439Z
UID:444-1557388800-1557421200@guildfieldbaptist.org
SUMMARY:Kids Festival
DESCRIPTION:Maecenas leo nisi\, efficitur at felis sit amet\, lacinia auctor quam. Aliquam euismod pretium mattis. Aenean sollicitudin orci non orci gravida ullamcorper. Duis utres odios pellentesque\, efficiturs odio vitae\, aliquams arcu. Sed pulvinar lacus at neque imperdiet lobortis. Phasellus eget lectus rutrum\, fringilla nibh ut\, convallis orci. Quisque magna risus\, lacinia a pharetra vel\, gravida ac mi. Aenean ac interdum nisi\, et vehicula nisl. Suspendisse potenti. Cras leo ex\, congue eget dignissim nec\, porta maximus erat. Etiam ornare arcu neque\, in viverra eros egestas eu. Mauris diam velit\, dictum et vehicula nec\, sagittis nec sapien. Donec tincidunt purus et justo porttitor\, non porttitor quam fermentum orci non aliquams arcu dolores ipsums. \nDonec maximus a ante sit amet nisl nisi at arcu. Donec lobortis libero ex\, a sollicitudin neque volutpat. Aenean pretium nisi id lectus cursus sagittis. Aliquam sit amet nisl pretium\, consectetur purus non\, porta libero. Integer dui dui\, porta non mollis sit amet\, pharetra nec risus. Donec fringilla ex non arcu auctor\, vel faucibus felis pharetra. Pellentesque condimentum suscipit mi. Sed pretium\, tellus et efficitur dapibus\, metus nunc gravida ante\, at interdum nisl nisi at arcu. Donec lobortis libero ex\, a sollicitudin neque dapibus vitae. Maecenas volutpat est sit amet leo pretium mollis eu a odio dolores ipsums ficilis etras.
URL:https://guildfieldbaptist.org/event/creative-kids-festval/
LOCATION:South Campus\, 1234 Apple Avenue\, New York City\, NY\, 111111\, United States
CATEGORIES:Community,Food,Music
ATTACH;FMTTYPE=image/jpeg:https://guildfieldbaptist.org/wp-content/uploads/2015/09/event_5-compressor.jpg
ORGANIZER;CN="Avada Church":MAILTO:noreply@example.com
END:VEVENT
BEGIN:VEVENT
DTSTART;TZID=UTC:20190423T080000
DTEND;TZID=UTC:20190423T170000
DTSTAMP:20260425T211059
CREATED:20150916T194835Z
LAST-MODIFIED:20150916T194835Z
UID:447-1556006400-1556038800@guildfieldbaptist.org
SUMMARY:Guided Tours
DESCRIPTION:Maecenas leo nisi\, efficitur at felis sit amet\, lacinia auctor quam. Aliquam euismod pretium mattis. Aenean sollicitudin orci non orci gravida ullamcorper. Duis utres odios pellentesque\, efficiturs odio vitae\, aliquams arcu. Sed pulvinar lacus at neque imperdiet lobortis. Phasellus eget lectus rutrum\, fringilla nibh ut\, convallis orci. Quisque magna risus\, lacinia a pharetra vel\, gravida ac mi. Aenean ac interdum nisi\, et vehicula nisl. Suspendisse potenti. Cras leo ex\, congue eget dignissim nec\, porta maximus erat. Etiam ornare arcu neque\, in viverra eros egestas eu. Mauris diam velit\, dictum et vehicula nec\, sagittis nec sapien. Donec tincidunt purus et justo porttitor\, non porttitor quam fermentum orci non aliquams arcu dolores ipsums. \nDonec maximus a ante sit amet nisl nisi at arcu. Donec lobortis libero ex\, a sollicitudin neque volutpat. Aenean pretium nisi id lectus cursus sagittis. Aliquam sit amet nisl pretium\, consectetur purus non\, porta libero. Integer dui dui\, porta non mollis sit amet\, pharetra nec risus. Donec fringilla ex non arcu auctor\, vel faucibus felis pharetra. Pellentesque condimentum suscipit mi. Sed pretium\, tellus et efficitur dapibus\, metus nunc gravida ante\, at interdum nisl nisi at arcu. Donec lobortis libero ex\, a sollicitudin neque dapibus vitae. Maecenas volutpat est sit amet leo pretium mollis eu a odio dolores ipsums ficilis etras.
URL:https://guildfieldbaptist.org/event/guided-tours/
LOCATION:South Campus\, 1234 Apple Avenue\, New York City\, NY\, 111111\, United States
CATEGORIES:Community,Music,Outreach
ATTACH;FMTTYPE=image/jpeg:https://guildfieldbaptist.org/wp-content/uploads/2015/09/event_13-compressor.jpg
ORGANIZER;CN="Avada Church":MAILTO:noreply@example.com
END:VEVENT
END:VCALENDAR